BEGIN:VCALENDAR
VERSION:2.0
PRODID:-//Tukios.com/
BEGIN:VEVENT
UID:01da18e9-9743-4fc8-bd2a-97d75e9ccc5c@www.northportfuneralservice.net
DTSTAMP:20260421T085529Z
DTSTART:20251219T200000Z
DTEND:20251219T230000Z
SUMMARY:Visitation
DESCRIPTION:
URL:https://www.northportfuneralservice.net/obituaries/johnny-phillips
LOCATION:Northport Funeral & Cremation Service 5404 Watermelon Road  
	Northport AL 35473
GEO:33.2586285;-87.5435616
END:VEVENT
END:VCALENDAR