BEGIN:VCALENDAR
VERSION:2.0
PRODID:-//Tukios.com/
BEGIN:VEVENT
UID:2a0f55ce-5931-429a-90ec-ace47e958fe5@www.northportfuneralservice.net
DTSTAMP:20260421T084340Z
DTSTART:20251220T190000Z
DTEND:20251220T200000Z
SUMMARY:Funeral Service
DESCRIPTION:
URL:https://www.northportfuneralservice.net/obituaries/johnny-phillips
LOCATION:Friendship Baptist Church 3416 8th Street  Tuscaloosa AL 35401
GEO:33.2042714;-87.581286
END:VEVENT
END:VCALENDAR