BEGIN:VCALENDAR
VERSION:2.0
PRODID:-//Tukios.com/
BEGIN:VEVENT
UID:7b2c1ad2-5c36-4ba8-bfce-8b00055e89e6@www.northportfuneralservice.net
DTSTAMP:20260423T212717Z
DTSTART:20260502T180000Z
DTEND:20260502T200000Z
SUMMARY:Memorial Service
DESCRIPTION:
URL:https://www.northportfuneralservice.net/obituaries/mr-daniel-beaver
LOCATION:Duncanville Baptist Church 12103 Highway 82 East  Duncanville AL 
	35456
GEO:33.0680159;-87.4493786
END:VEVENT
END:VCALENDAR